BEGIN:VCALENDAR
VERSION:2.0
PRODID:-//CCB - ECPv6.15.17.1//NONSGML v1.0//EN
CALSCALE:GREGORIAN
METHOD:PUBLISH
X-ORIGINAL-URL:https://www.ccbiblio.es
X-WR-CALDESC:Eventos para CCB
REFRESH-INTERVAL;VALUE=DURATION:PT1H
X-Robots-Tag:noindex
X-PUBLISHED-TTL:PT1H
BEGIN:VTIMEZONE
TZID:Europe/Madrid
BEGIN:DAYLIGHT
TZOFFSETFROM:+0100
TZOFFSETTO:+0200
TZNAME:CEST
DTSTART:20250330T010000
END:DAYLIGHT
BEGIN:STANDARD
TZOFFSETFROM:+0200
TZOFFSETTO:+0100
TZNAME:CET
DTSTART:20251026T010000
END:STANDARD
BEGIN:DAYLIGHT
TZOFFSETFROM:+0100
TZOFFSETTO:+0200
TZNAME:CEST
DTSTART:20260329T010000
END:DAYLIGHT
BEGIN:STANDARD
TZOFFSETFROM:+0200
TZOFFSETTO:+0100
TZNAME:CET
DTSTART:20261025T010000
END:STANDARD
BEGIN:DAYLIGHT
TZOFFSETFROM:+0100
TZOFFSETTO:+0200
TZNAME:CEST
DTSTART:20270328T010000
END:DAYLIGHT
BEGIN:STANDARD
TZOFFSETFROM:+0200
TZOFFSETTO:+0100
TZNAME:CET
DTSTART:20271031T010000
END:STANDARD
END:VTIMEZONE
BEGIN:VEVENT
DTSTART;VALUE=DATE:20260604
DTEND;VALUE=DATE:20260606
DTSTAMP:20260421T020246
CREATED:20260128T125400Z
LAST-MODIFIED:20260128T125400Z
UID:19382-1780531200-1780703999@www.ccbiblio.es
SUMMARY:18.ª Jornadas Catalanas de Información y Documentación (18JCID)
DESCRIPTION:Los días 4 y 5 de junio de 2026 celebraremos las 18.ª Jornadas Catalanas de Información y Documentación (18JCID) en la Facultad de Información y Medios Audiovisuales de la Universidad de Barcelona. Este año lo hacemos bajo un lema que quiere ser una declaración de intenciones: Bienvenidas a la resistencia. \nLas Jornadas se estructurarán en torno a cuatro grandes ejes: Vanguardia digital; Trinchera social; Refugio del conocimiento y la cultura; Frente profesional.\nPronto compartiremos más información\, pero de momento… ¡reserva la fecha y marca las 18JCID en la agenda!
URL:https://www.ccbiblio.es/evento/18-a-jornadas-catalanas-de-informacion-y-documentacion-18jcid/
CATEGORIES:Eventos
END:VEVENT
END:VCALENDAR