BEGIN:VCALENDAR
VERSION:2.0
PRODID:-//CCB - ECPv6.15.17.1//NONSGML v1.0//EN
CALSCALE:GREGORIAN
METHOD:PUBLISH
X-WR-CALNAME:CCB
X-ORIGINAL-URL:https://www.ccbiblio.es
X-WR-CALDESC:Eventos para CCB
REFRESH-INTERVAL;VALUE=DURATION:PT1H
X-Robots-Tag:noindex
X-PUBLISHED-TTL:PT1H
BEGIN:VTIMEZONE
TZID:Europe/Madrid
BEGIN:DAYLIGHT
TZOFFSETFROM:+0100
TZOFFSETTO:+0200
TZNAME:CEST
DTSTART:20240331T010000
END:DAYLIGHT
BEGIN:STANDARD
TZOFFSETFROM:+0200
TZOFFSETTO:+0100
TZNAME:CET
DTSTART:20241027T010000
END:STANDARD
BEGIN:DAYLIGHT
TZOFFSETFROM:+0100
TZOFFSETTO:+0200
TZNAME:CEST
DTSTART:20250330T010000
END:DAYLIGHT
BEGIN:STANDARD
TZOFFSETFROM:+0200
TZOFFSETTO:+0100
TZNAME:CET
DTSTART:20251026T010000
END:STANDARD
BEGIN:DAYLIGHT
TZOFFSETFROM:+0100
TZOFFSETTO:+0200
TZNAME:CEST
DTSTART:20260329T010000
END:DAYLIGHT
BEGIN:STANDARD
TZOFFSETFROM:+0200
TZOFFSETTO:+0100
TZNAME:CET
DTSTART:20261025T010000
END:STANDARD
END:VTIMEZONE
BEGIN:VEVENT
DTSTART;VALUE=DATE:20251118
DTEND;VALUE=DATE:20251121
DTSTAMP:20260421T062110
CREATED:20250909T113218Z
LAST-MODIFIED:20250909T113406Z
UID:18487-1763424000-1763683199@www.ccbiblio.es
SUMMARY:Jornadas Sectorial I+D+i Crue
DESCRIPTION:Las próximas jornadas de la sectorial se celebrarán en la Universidad de Vigo los días 18\, 19 y 20 de noviembre.\n\nEl día 18 celebraremos la Asamblea anual REBIUN dentro de las mismas.\n\nYa tenéis toda la información en la web:https://jornadasinvestigacion.gal/
URL:https://www.ccbiblio.es/evento/jornadas-sectorial-idi-crue/
LOCATION:Universidad de Vigo
CATEGORIES:Eventos
END:VEVENT
END:VCALENDAR