BEGIN:VCALENDAR
VERSION:2.0
PRODID:-//CCB - ECPv6.15.17.1//NONSGML v1.0//EN
CALSCALE:GREGORIAN
METHOD:PUBLISH
X-WR-CALNAME:CCB
X-ORIGINAL-URL:https://www.ccbiblio.es
X-WR-CALDESC:Eventos para CCB
REFRESH-INTERVAL;VALUE=DURATION:PT1H
X-Robots-Tag:noindex
X-PUBLISHED-TTL:PT1H
BEGIN:VTIMEZONE
TZID:Europe/Madrid
BEGIN:DAYLIGHT
TZOFFSETFROM:+0100
TZOFFSETTO:+0200
TZNAME:CEST
DTSTART:20250330T010000
END:DAYLIGHT
BEGIN:STANDARD
TZOFFSETFROM:+0200
TZOFFSETTO:+0100
TZNAME:CET
DTSTART:20251026T010000
END:STANDARD
BEGIN:DAYLIGHT
TZOFFSETFROM:+0100
TZOFFSETTO:+0200
TZNAME:CEST
DTSTART:20260329T010000
END:DAYLIGHT
BEGIN:STANDARD
TZOFFSETFROM:+0200
TZOFFSETTO:+0100
TZNAME:CET
DTSTART:20261025T010000
END:STANDARD
BEGIN:DAYLIGHT
TZOFFSETFROM:+0100
TZOFFSETTO:+0200
TZNAME:CEST
DTSTART:20270328T010000
END:DAYLIGHT
BEGIN:STANDARD
TZOFFSETFROM:+0200
TZOFFSETTO:+0100
TZNAME:CET
DTSTART:20271031T010000
END:STANDARD
END:VTIMEZONE
BEGIN:VEVENT
DTSTART;VALUE=DATE:20261013
DTEND;VALUE=DATE:20261014
DTSTAMP:20260423T024202
CREATED:20250909T075322Z
LAST-MODIFIED:20260120T133931Z
UID:18465-1791849600-1791935999@www.ccbiblio.es
SUMMARY:Día de las Escritoras
DESCRIPTION:La Biblioteca Nacional de España\, en colaboración con la Federación Española de Mujeres Directivas\, Ejecutivas\, Profesionales y Empresarias (FEDEPE) y con la Asociación Clásicas y Modernas\, celebran cada año\, desde 2016\, el Día de las Escritoras. \n\nSe trata de reivindicar la labor y el legado literario de las mujeres\, tantas veces relegadas a un segundo plano a lo largo de la historia. La primera edición se llevó a cabo en 2016\, y desde entonces\, la fecha elegida es siempre el lunes más cercano al 15 de octubre\, aniversario del fallecimiento de Teresa de Jesús.\n\nCada año contamos con una temática específicamente elegida para la ocasión.  La actividad está comisariada en cada edición por una escritora de reconocido prestigio\, propuesta por las tres instituciones organizadoras.\n\nLa actividad principal tiene lugar en el salón de actos de la BNE y se trata de una lectura continuada de entre 20 y 25 textos escritos por mujeres y seleccionados por la comisaria. Las lectoras son seleccionas entre la comisaria y las tres instituciones que colaboran en la actividad.
URL:https://www.ccbiblio.es/evento/dia-de-las-escritoras/
LOCATION:Biblioteca Nacional de España
CATEGORIES:Efemérides
END:VEVENT
BEGIN:VEVENT
DTSTART;VALUE=DATE:20261024
DTEND;VALUE=DATE:20261025
DTSTAMP:20260423T024202
CREATED:20250902T140739Z
LAST-MODIFIED:20260120T133838Z
UID:18428-1792800000-1792886399@www.ccbiblio.es
SUMMARY:Día de las Bibliotecas
DESCRIPTION:Cada 24 de octubre se celebra el Día de las Bibliotecas. La celebración de este Día tiene un hilo conductor diferente cada año.
URL:https://www.ccbiblio.es/evento/dia-de-las-bibliotecas-2/
CATEGORIES:Efemérides
END:VEVENT
BEGIN:VEVENT
DTSTART;VALUE=DATE:20261027
DTEND;VALUE=DATE:20261028
DTSTAMP:20260423T024202
CREATED:20250909T080236Z
LAST-MODIFIED:20260120T133729Z
UID:18470-1793059200-1793145599@www.ccbiblio.es
SUMMARY:Día Mundial del Patrimonio Audiovisual
DESCRIPTION:El Día Mundial del Patrimonio Audiovisual es una conmemoración de la adopción\, en 1980\, por la 21ª Conferencia General\, de la Recomendación para la Salvaguardia y la Conservación de las Imágenes en Movimiento. Este día brinda la ocasión de sensibilizar a la opinión pública sobre la necesidad de adoptar medidas urgentes y de reconocer la importancia de los documentos audiovisuales.\n\nTambién sirve como una oportunidad para que los Estados Miembros de la UNESCO evalúen su desempeño con respecto a la aplicación de la Recomendación de 2015 relativa a la conservación del patrimonio documental\, incluso en forma digital\, y al acceso al mismo.
URL:https://www.ccbiblio.es/evento/dia-mundial-del-patrimonio-audiovisual/
CATEGORIES:Efemérides
END:VEVENT
END:VCALENDAR