BEGIN:VCALENDAR
VERSION:2.0
PRODID:-//CCB - ECPv6.15.17.1//NONSGML v1.0//EN
CALSCALE:GREGORIAN
METHOD:PUBLISH
X-ORIGINAL-URL:https://www.ccbiblio.es
X-WR-CALDESC:Eventos para CCB
REFRESH-INTERVAL;VALUE=DURATION:PT1H
X-Robots-Tag:noindex
X-PUBLISHED-TTL:PT1H
BEGIN:VTIMEZONE
TZID:Europe/Madrid
BEGIN:DAYLIGHT
TZOFFSETFROM:+0100
TZOFFSETTO:+0200
TZNAME:CEST
DTSTART:20250330T010000
END:DAYLIGHT
BEGIN:STANDARD
TZOFFSETFROM:+0200
TZOFFSETTO:+0100
TZNAME:CET
DTSTART:20251026T010000
END:STANDARD
BEGIN:DAYLIGHT
TZOFFSETFROM:+0100
TZOFFSETTO:+0200
TZNAME:CEST
DTSTART:20260329T010000
END:DAYLIGHT
BEGIN:STANDARD
TZOFFSETFROM:+0200
TZOFFSETTO:+0100
TZNAME:CET
DTSTART:20261025T010000
END:STANDARD
BEGIN:DAYLIGHT
TZOFFSETFROM:+0100
TZOFFSETTO:+0200
TZNAME:CEST
DTSTART:20270328T010000
END:DAYLIGHT
BEGIN:STANDARD
TZOFFSETFROM:+0200
TZOFFSETTO:+0100
TZNAME:CET
DTSTART:20271031T010000
END:STANDARD
END:VTIMEZONE
BEGIN:VEVENT
DTSTART;VALUE=DATE:20260819
DTEND;VALUE=DATE:20260820
DTSTAMP:20260422T232135
CREATED:20250908T112618Z
LAST-MODIFIED:20260120T134619Z
UID:18439-1787097600-1787183999@www.ccbiblio.es
SUMMARY:Día Mundial de la Fotografía
DESCRIPTION:El Día Mundial de la Fotografía se celebra el 19 de agosto. ​Esta fecha conmemora el invento de la fotografía y la contribución de la fotografía a la cultura y la documentación histórica. Se busca reconocer el arte de capturar imágenes y su impacto en la comunicación y la percepción del mundo.\n\nEl 19 de agosto de 1839 Luis Daguerre presentó ante la Academia de Ciencias de Francia su último inventó: el daguerrotipo\, que permitía capturar una imagen a través de un proceso químico. Ese día también se liberó la patente del daguerrotipo\, dando lugar al desarrollo de la fotografía.\n\nPero el Día Mundial de la Fotografía es una iniciativa del fotógrafo australiano Korske Ara que ha ido aumentando su difusión e importancia\, de forma que ahora se celebra en todo el mundo.
URL:https://www.ccbiblio.es/evento/dia-mundial-de-la-fotografia-2/
CATEGORIES:Efemérides
END:VEVENT
END:VCALENDAR