BEGIN:VCALENDAR
VERSION:2.0
PRODID:-//CCB - ECPv6.15.17.1//NONSGML v1.0//EN
CALSCALE:GREGORIAN
METHOD:PUBLISH
X-ORIGINAL-URL:https://www.ccbiblio.es
X-WR-CALDESC:Eventos para CCB
REFRESH-INTERVAL;VALUE=DURATION:PT1H
X-Robots-Tag:noindex
X-PUBLISHED-TTL:PT1H
BEGIN:VTIMEZONE
TZID:Europe/Madrid
BEGIN:DAYLIGHT
TZOFFSETFROM:+0100
TZOFFSETTO:+0200
TZNAME:CEST
DTSTART:20250330T010000
END:DAYLIGHT
BEGIN:STANDARD
TZOFFSETFROM:+0200
TZOFFSETTO:+0100
TZNAME:CET
DTSTART:20251026T010000
END:STANDARD
BEGIN:DAYLIGHT
TZOFFSETFROM:+0100
TZOFFSETTO:+0200
TZNAME:CEST
DTSTART:20260329T010000
END:DAYLIGHT
BEGIN:STANDARD
TZOFFSETFROM:+0200
TZOFFSETTO:+0100
TZNAME:CET
DTSTART:20261025T010000
END:STANDARD
BEGIN:DAYLIGHT
TZOFFSETFROM:+0100
TZOFFSETTO:+0200
TZNAME:CEST
DTSTART:20270328T010000
END:DAYLIGHT
BEGIN:STANDARD
TZOFFSETFROM:+0200
TZOFFSETTO:+0100
TZNAME:CET
DTSTART:20271031T010000
END:STANDARD
END:VTIMEZONE
BEGIN:VEVENT
DTSTART;VALUE=DATE:20260704
DTEND;VALUE=DATE:20260705
DTSTAMP:20260422T215509
CREATED:20250908T111943Z
LAST-MODIFIED:20260120T134628Z
UID:18436-1783123200-1783209599@www.ccbiblio.es
SUMMARY:Día Mundial del Ebook
DESCRIPTION:El 4 de julio se celebra el Día Mundial del Ebook o Libro Electrónico\, una fecha que rinde homenaje a Michael Hart\, creador del primer ebook en 1971\, y busca fomentar la lectura digital y el acceso al conocimiento en este formato.\nMichael Hart transcribió la Declaración de Independencia de Estados Unidos en formato digital. Esta acción inspiró a preservar la cultura en formato digital y motivó a la empresa OverDrive a instituir el Día Mundial del Ebook.
URL:https://www.ccbiblio.es/evento/dia-mundial-del-ebook-2/
CATEGORIES:Efemérides
END:VEVENT
END:VCALENDAR