BEGIN:VCALENDAR
VERSION:2.0
PRODID:-//CCB - ECPv6.15.17.1//NONSGML v1.0//EN
CALSCALE:GREGORIAN
METHOD:PUBLISH
X-ORIGINAL-URL:https://www.ccbiblio.es
X-WR-CALDESC:Eventos para CCB
REFRESH-INTERVAL;VALUE=DURATION:PT1H
X-Robots-Tag:noindex
X-PUBLISHED-TTL:PT1H
BEGIN:VTIMEZONE
TZID:Europe/Madrid
BEGIN:DAYLIGHT
TZOFFSETFROM:+0100
TZOFFSETTO:+0200
TZNAME:CEST
DTSTART:20250330T010000
END:DAYLIGHT
BEGIN:STANDARD
TZOFFSETFROM:+0200
TZOFFSETTO:+0100
TZNAME:CET
DTSTART:20251026T010000
END:STANDARD
BEGIN:DAYLIGHT
TZOFFSETFROM:+0100
TZOFFSETTO:+0200
TZNAME:CEST
DTSTART:20260329T010000
END:DAYLIGHT
BEGIN:STANDARD
TZOFFSETFROM:+0200
TZOFFSETTO:+0100
TZNAME:CET
DTSTART:20261025T010000
END:STANDARD
BEGIN:DAYLIGHT
TZOFFSETFROM:+0100
TZOFFSETTO:+0200
TZNAME:CEST
DTSTART:20270328T010000
END:DAYLIGHT
BEGIN:STANDARD
TZOFFSETFROM:+0200
TZOFFSETTO:+0100
TZNAME:CET
DTSTART:20271031T010000
END:STANDARD
END:VTIMEZONE
BEGIN:VEVENT
DTSTART;VALUE=DATE:20260126
DTEND;VALUE=DATE:20260127
DTSTAMP:20260422T231242
CREATED:20250122T101709Z
LAST-MODIFIED:20260120T135135Z
UID:16461-1769385600-1769471999@www.ccbiblio.es
SUMMARY:Día de la Educación Ambiental
DESCRIPTION:El 26 de enero se celebra el Día Mundial de la Educación Ambiental\, con la finalidad de concienciar a las personas acerca de la importancia de preservar y proteger el medio ambiente\, así como incentivar su participación en las iniciativas que se están llevando a cabo a nivel mundial\, para su conservación.\n\nEs fundamental cuidar los recursos naturales de nuestro planeta para que las futuras generaciones puedan disfrutar y vivir en un mundo mejor.
URL:https://www.ccbiblio.es/evento/dia-de-la-educacion-ambiental-2/
CATEGORIES:Efemérides
END:VEVENT
BEGIN:VEVENT
DTSTART;VALUE=DATE:20260128
DTEND;VALUE=DATE:20260129
DTSTAMP:20260422T231242
CREATED:20250122T101731Z
LAST-MODIFIED:20260120T135128Z
UID:16463-1769558400-1769644799@www.ccbiblio.es
SUMMARY:Día del Bibliobús
DESCRIPTION:El 28 de enero es una fecha destacada para el mundo bibliotecario en España: celebramos el Día del Bibliobús. Este año\, la Asociación de Profesionales de Bibliotecas Móviles (ACLEBIM)\, impulsora de esta iniciativa\, nos invita a reflexionar sobre la importancia de estos servicios bajo el lema «Bibliobús\, la garantía de tus derechos donde elijas vivir».»
URL:https://www.ccbiblio.es/evento/dia-del-bibliobus-2/
CATEGORIES:Efemérides
END:VEVENT
END:VCALENDAR