BEGIN:VCALENDAR
VERSION:2.0
PRODID:-//CCB - ECPv6.15.17.1//NONSGML v1.0//EN
CALSCALE:GREGORIAN
METHOD:PUBLISH
X-WR-CALNAME:CCB
X-ORIGINAL-URL:https://www.ccbiblio.es
X-WR-CALDESC:Eventos para CCB
REFRESH-INTERVAL;VALUE=DURATION:PT1H
X-Robots-Tag:noindex
X-PUBLISHED-TTL:PT1H
BEGIN:VTIMEZONE
TZID:Europe/Madrid
BEGIN:DAYLIGHT
TZOFFSETFROM:+0100
TZOFFSETTO:+0200
TZNAME:CEST
DTSTART:20250330T010000
END:DAYLIGHT
BEGIN:STANDARD
TZOFFSETFROM:+0200
TZOFFSETTO:+0100
TZNAME:CET
DTSTART:20251026T010000
END:STANDARD
BEGIN:DAYLIGHT
TZOFFSETFROM:+0100
TZOFFSETTO:+0200
TZNAME:CEST
DTSTART:20260329T010000
END:DAYLIGHT
BEGIN:STANDARD
TZOFFSETFROM:+0200
TZOFFSETTO:+0100
TZNAME:CET
DTSTART:20261025T010000
END:STANDARD
BEGIN:DAYLIGHT
TZOFFSETFROM:+0100
TZOFFSETTO:+0200
TZNAME:CEST
DTSTART:20270328T010000
END:DAYLIGHT
BEGIN:STANDARD
TZOFFSETFROM:+0200
TZOFFSETTO:+0100
TZNAME:CET
DTSTART:20271031T010000
END:STANDARD
END:VTIMEZONE
BEGIN:VEVENT
DTSTART;VALUE=DATE:20260420
DTEND;VALUE=DATE:20260423
DTSTAMP:20260421T002941
CREATED:20260128T095909Z
LAST-MODIFIED:20260128T095909Z
UID:19368-1776643200-1776902399@www.ccbiblio.es
SUMMARY:34th EBLIDA Annual Council and Conference
DESCRIPTION:La 34.ª Asamblea Anual y Conferencia de EBLIDA se celebrará en Praga\, República Checa\, del 20 al 22 de abril de 2026. El evento reunirá a líderes y profesionales de bibliotecas\, responsables políticos y socios para reflexionar sobre el papel de las bibliotecas en la construcción de un futuro sostenible.\n\nBajo el lema “Sentido y sostenibilidad: de los objetivos a la acción en la Semana 17. Las bibliotecas como aliadas para un futuro sostenible”\, la conferencia se centrará en la sostenibilidad en las bibliotecas y en su función como guardianas a largo plazo de la sostenibilidad social\, ambiental\, cultural y democrática.\n\nOrganizada en colaboración con la Asociación de Bibliotecas de la República Checa\, la conferencia tendrá lugar en espacios emblemáticos de Praga\, como la Biblioteca Nacional de la República Checa y la Biblioteca Municipal de Praga\, en un entorno donde el patrimonio cultural y la vida cívica están estrechamente vinculados.
URL:https://www.ccbiblio.es/evento/34th-eblida-annual-council-and-conference/
CATEGORIES:Eventos
END:VEVENT
END:VCALENDAR